BEGIN:VCALENDAR
VERSION:2.0
PRODID:icalendar-ruby
CALSCALE:GREGORIAN
X-WR-TIMEZONE:Europe/Helsinki
BEGIN:VTIMEZONE
TZID:Europe/Helsinki
BEGIN:DAYLIGHT
DTSTART:20260329T040000
TZOFFSETFROM:+0200
TZOFFSETTO:+0300
RRULE:FREQ=YEARLY;BYDAY=-1SU;BYMONTH=3
TZNAME:EEST
END:DAYLIGHT
BEGIN:STANDARD
DTSTART:20261025T030000
TZOFFSETFROM:+0300
TZOFFSETTO:+0200
RRULE:FREQ=YEARLY;BYDAY=-1SU;BYMONTH=10
TZNAME:EET
END:STANDARD
END:VTIMEZONE
BEGIN:VEVENT
DTSTAMP:20260424T192307
UID:nopsa.myclub.fi-8847969
DTSTART;TZID=Europe/Helsinki:20250719T120000
DTEND;TZID=Europe/Helsinki:20250719T160000
DESCRIPTION:Huomaathan ilmoittaa urheilijan (ilmoitetaan kilpailukalenterii
 n) lisäksi itsesi toimitsijaksi myClubin kautta (nimi kommentteihin ellei
  ole omaa myclub tiliä)\nM	 	150m\, 800m\, pituus\nM17	 100m\, pituus\, k
 eihäs\nN	 	150m\, pituus\nN17	 	100m\, pituus\, moukari\nN19	 	pituus\, k
 iekko\nP11	 	60m\, 600m\, korkeus\nP13	 	200m\, 60m aj\, kiekko\nP15	 	100
 m\, 3-loikka\, keihäs\nP9	 	40m\, pituus\, keihäs\nT11	 	60m\, 600m\, ko
 rkeus\nT13	 	200m\, 60m aj\, keihäs\nT15	 	100m\, korkeus\, moukari\nT9	 
 	40m\, korkeus\, kuula\n\n\nhttps://nopsa.myclub.fi/flow/events/8847969
LOCATION:Noormarkun urheilukenttä\, Finbyyntie 1\, 29600 Noormarkku\, Suom
 i
SEQUENCE:0
SUMMARY:Yleisurheilu: Seppo Välimäki - aluekisat
URL;VALUE=URI:https://nopsa.myclub.fi/flow/events/8847969
END:VEVENT
END:VCALENDAR
